BEGIN:VCALENDAR
VERSION:2.0
PRODID:-//GAEB - Gemeinsamer Ausschuss Elektronik im Bauwesen - ECPv6.15.20//NONSGML v1.0//EN
CALSCALE:GREGORIAN
METHOD:PUBLISH
X-WR-CALNAME:GAEB - Gemeinsamer Ausschuss Elektronik im Bauwesen
X-ORIGINAL-URL:https://www.gaeb.de
X-WR-CALDESC:Veranstaltungen für GAEB - Gemeinsamer Ausschuss Elektronik im Bauwesen
REFRESH-INTERVAL;VALUE=DURATION:PT1H
X-Robots-Tag:noindex
X-PUBLISHED-TTL:PT1H
BEGIN:VTIMEZONE
TZID:Europe/Berlin
BEGIN:DAYLIGHT
TZOFFSETFROM:+0100
TZOFFSETTO:+0200
TZNAME:CEST
DTSTART:20210328T010000
END:DAYLIGHT
BEGIN:STANDARD
TZOFFSETFROM:+0200
TZOFFSETTO:+0100
TZNAME:CET
DTSTART:20211031T010000
END:STANDARD
BEGIN:DAYLIGHT
TZOFFSETFROM:+0100
TZOFFSETTO:+0200
TZNAME:CEST
DTSTART:20220327T010000
END:DAYLIGHT
BEGIN:STANDARD
TZOFFSETFROM:+0200
TZOFFSETTO:+0100
TZNAME:CET
DTSTART:20221030T010000
END:STANDARD
BEGIN:DAYLIGHT
TZOFFSETFROM:+0100
TZOFFSETTO:+0200
TZNAME:CEST
DTSTART:20230326T010000
END:DAYLIGHT
BEGIN:STANDARD
TZOFFSETFROM:+0200
TZOFFSETTO:+0100
TZNAME:CET
DTSTART:20231029T010000
END:STANDARD
END:VTIMEZONE
BEGIN:VEVENT
DTSTART;VALUE=DATE:20221005
DTEND;VALUE=DATE:20221006
DTSTAMP:20260425T153610
CREATED:20220920T070700Z
LAST-MODIFIED:20220920T070700Z
UID:6186-1664928000-1665014399@www.gaeb.de
SUMMARY:LB 009 Abwasserkanalarbeiten TB 310 – Teilbereich Sanierung und Renovierung
DESCRIPTION:Sollten Sie sich für eine Mitarbeit in diesem Arbeitskreis interessieren oder möchten Sie als Gast an der Sitzung teilnehmen\, wenden Sie sich bitte an die GAEB Geschäftsstelle unter gaeb@bbr.bund.de
URL:https://www.gaeb.de/de/termin/lb-009-abwasserkanalarbeiten-tb-310-teilbereich-sanierung-und-renovierung-4/
LOCATION:DIN Berlin
END:VEVENT
BEGIN:VEVENT
DTSTART;VALUE=DATE:20221011
DTEND;VALUE=DATE:20221012
DTSTAMP:20260425T153610
CREATED:20220920T070905Z
LAST-MODIFIED:20220920T070905Z
UID:6188-1665446400-1665532799@www.gaeb.de
SUMMARY:LB 096 Bauarbeiten an Bahnübergängen und LB 097 Bauarbeiten an Gleisen und Weichen
DESCRIPTION:Sollten Sie sich für eine Mitarbeit in diesem Arbeitskreis interessieren oder möchten Sie als Gast an der Sitzung teilnehmen\, wenden Sie sich bitte an die GAEB Geschäftsstelle unter gaeb@bbr.bund.de
URL:https://www.gaeb.de/de/termin/lb-096-bauarbeiten-an-bahnuebergaengen-und-lb-097-bauarbeiten-an-gleisen-und-weichen-4/
LOCATION:DIN Berlin
END:VEVENT
BEGIN:VEVENT
DTSTART;VALUE=DATE:20221013
DTEND;VALUE=DATE:20221014
DTSTAMP:20260425T153610
CREATED:20220920T071053Z
LAST-MODIFIED:20220920T071053Z
UID:6190-1665619200-1665705599@www.gaeb.de
SUMMARY:LB 005 Brunnenbauarbeiten und Aufschlussbohrungen und 008 Wasserhaltungsarbeiten
DESCRIPTION:Sollten Sie sich für eine Mitarbeit in diesem Arbeitskreis interessieren oder möchten Sie als Gast an der Sitzung teilnehmen\, wenden Sie sich bitte an die GAEB Geschäftsstelle unter gaeb@bbr.bund.de
URL:https://www.gaeb.de/de/termin/lb-005-brunnenbauarbeiten-und-aufschlussbohrungen-und-008-wasserhaltungsarbeiten/
LOCATION:DIN Berlin
END:VEVENT
BEGIN:VEVENT
DTSTART;VALUE=DATE:20221014
DTEND;VALUE=DATE:20221015
DTSTAMP:20260425T153610
CREATED:20220928T081918Z
LAST-MODIFIED:20220928T081918Z
UID:6198-1665705600-1665791999@www.gaeb.de
SUMMARY:LB 030 Rollladenarbeiten
DESCRIPTION:Sollten Sie sich für eine Mitarbeit in diesem Arbeitskreis interessieren oder möchten Sie als Gast an der Sitzung teilnehmen\, wenden Sie sich bitte an die GAEB Geschäftsstelle unter gaeb@bbr.bund.de
URL:https://www.gaeb.de/de/termin/lb-030-rollladenarbeiten/
LOCATION:Webex\, Webex
END:VEVENT
BEGIN:VEVENT
DTSTART;VALUE=DATE:20221018
DTEND;VALUE=DATE:20221019
DTSTAMP:20260425T153610
CREATED:20220920T070037Z
LAST-MODIFIED:20220920T070037Z
UID:6180-1666051200-1666137599@www.gaeb.de
SUMMARY:ad hoc Arbeitskreis „Fugen“
DESCRIPTION:Sollten Sie sich für eine Mitarbeit in diesem Arbeitskreis interessieren oder möchten Sie als Gast an der Sitzung teilnehmen\, wenden Sie sich bitte an die GAEB Geschäftsstelle unter gaeb@bbr.bund.de
URL:https://www.gaeb.de/de/termin/ad-hoc-arbeitskreis-fugen-3/
LOCATION:Webex\, Webex
END:VEVENT
BEGIN:VEVENT
DTSTART;VALUE=DATE:20221019
DTEND;VALUE=DATE:20221021
DTSTAMP:20260425T153610
CREATED:20220914T083140Z
LAST-MODIFIED:20220914T083140Z
UID:6177-1666137600-1666310399@www.gaeb.de
SUMMARY:LB 009-309 Entwässerungskanalarbeiten – Reinigung\, Inspektion von Entwässerungskanälen und -leitungen
DESCRIPTION:Sollten Sie sich für eine Mitarbeit in diesem Arbeitskreis interessieren oder möchten Sie als Gast an der Sitzung teilnehmen\, wenden Sie sich bitte an die GAEB Geschäftsstelle unter gaeb@bbr.bund.de
URL:https://www.gaeb.de/de/termin/lb-009-309-entwaesserungskanalarbeiten-reinigung-inspektion-von-entwaesserungskanaelen-und-leitungen/
LOCATION:Erfurt\, Erfurt
END:VEVENT
BEGIN:VEVENT
DTSTART;VALUE=DATE:20221020
DTEND;VALUE=DATE:20221022
DTSTAMP:20260425T153610
CREATED:20220920T071249Z
LAST-MODIFIED:20220920T071249Z
UID:6192-1666224000-1666396799@www.gaeb.de
SUMMARY:LB 029 Beschlagarbeiten
DESCRIPTION:Sollten Sie sich für eine Mitarbeit in diesem Arbeitskreis interessieren oder möchten Sie als Gast an der Sitzung teilnehmen\, wenden Sie sich bitte an die GAEB Geschäftsstelle unter gaeb@bbr.bund.de
URL:https://www.gaeb.de/de/termin/lb-029-beschlagarbeiten-7/
LOCATION:Schwalmstadt\, 34613
END:VEVENT
BEGIN:VEVENT
DTSTART;VALUE=DATE:20221024
DTEND;VALUE=DATE:20221026
DTSTAMP:20260425T153610
CREATED:20220920T071411Z
LAST-MODIFIED:20220920T071411Z
UID:6195-1666569600-1666742399@www.gaeb.de
SUMMARY:LB 025 Estricharbeiten
DESCRIPTION:Sollten Sie sich für eine Mitarbeit in diesem Arbeitskreis interessieren oder möchten Sie als Gast an der Sitzung teilnehmen\, wenden Sie sich bitte an die GAEB Geschäftsstelle unter gaeb@bbr.bund.de
URL:https://www.gaeb.de/de/termin/lb-025-estricharbeiten-7/
LOCATION:DIN Berlin
END:VEVENT
BEGIN:VEVENT
DTSTART;VALUE=DATE:20221026
DTEND;VALUE=DATE:20221028
DTSTAMP:20260425T153610
CREATED:20221011T073426Z
LAST-MODIFIED:20221011T073426Z
UID:6203-1666742400-1666915199@www.gaeb.de
SUMMARY:LB 060 Such-\, Signal-\, Zeitdienst-\, Antennen-\, elektroakusstische Anlagen\, Medientechnik
DESCRIPTION:Sollten Sie sich für eine Mitarbeit in diesem Arbeitskreis interessieren oder möchten Sie als Gast an der Sitzung teilnehmen\, wenden Sie sich bitte an die GAEB Geschäftsstelle unter gaeb@bbr.bund.de
URL:https://www.gaeb.de/de/termin/lb-060-such-signal-zeitdienst-antennen-elektroakusstische-anlagen-medientechnik/
LOCATION:DIN Berlin
END:VEVENT
BEGIN:VEVENT
DTSTART;VALUE=DATE:20221027
DTEND;VALUE=DATE:20221028
DTSTAMP:20260425T153610
CREATED:20220920T070509Z
LAST-MODIFIED:20220920T070509Z
UID:6184-1666828800-1666915199@www.gaeb.de
SUMMARY:LB 037 Tapezierarbeiten
DESCRIPTION:Sollten Sie sich für eine Mitarbeit in diesem Arbeitskreis interessieren oder möchten Sie als Gast an der Sitzung teilnehmen\, wenden Sie sich bitte an die GAEB Geschäftsstelle unter gaeb@bbr.bund.de
URL:https://www.gaeb.de/de/termin/lb-037-tapezierarbeiten-6/
LOCATION:Frankfurt
END:VEVENT
BEGIN:VEVENT
DTSTART;VALUE=DATE:20221028
DTEND;VALUE=DATE:20221029
DTSTAMP:20260425T153610
CREATED:20220920T070253Z
LAST-MODIFIED:20220920T070253Z
UID:6182-1666915200-1667001599@www.gaeb.de
SUMMARY:LB 041 Wärmeversorgungsanlagen – Leitungen\, Armaturen\, Heizflächen und LB 042 Gas- und Wasseranlagen – Leitungen\, Armaturen
DESCRIPTION:Sollten Sie sich für eine Mitarbeit in diesem Arbeitskreis interessieren oder möchten Sie als Gast an der Sitzung teilnehmen\, wenden Sie sich bitte an die GAEB Geschäftsstelle unter gaeb@bbr.bund.de
URL:https://www.gaeb.de/de/termin/lb-041-waermeversorgungsanlagen-leitungen-armaturen-heizflaechen-und-lb-042-gas-und-wasseranlagen-leitungen-armaturen-5/
LOCATION:Webex\, Webex
END:VEVENT
END:VCALENDAR