BEGIN:VCALENDAR
VERSION:2.0
PRODID:-//GAEB - Gemeinsamer Ausschuss Elektronik im Bauwesen - ECPv6.15.20//NONSGML v1.0//EN
CALSCALE:GREGORIAN
METHOD:PUBLISH
X-WR-CALNAME:GAEB - Gemeinsamer Ausschuss Elektronik im Bauwesen
X-ORIGINAL-URL:https://www.gaeb.de
X-WR-CALDESC:Veranstaltungen für GAEB - Gemeinsamer Ausschuss Elektronik im Bauwesen
REFRESH-INTERVAL;VALUE=DURATION:PT1H
X-Robots-Tag:noindex
X-PUBLISHED-TTL:PT1H
BEGIN:VTIMEZONE
TZID:Europe/Berlin
BEGIN:DAYLIGHT
TZOFFSETFROM:+0100
TZOFFSETTO:+0200
TZNAME:CEST
DTSTART:20210328T010000
END:DAYLIGHT
BEGIN:STANDARD
TZOFFSETFROM:+0200
TZOFFSETTO:+0100
TZNAME:CET
DTSTART:20211031T010000
END:STANDARD
BEGIN:DAYLIGHT
TZOFFSETFROM:+0100
TZOFFSETTO:+0200
TZNAME:CEST
DTSTART:20220327T010000
END:DAYLIGHT
BEGIN:STANDARD
TZOFFSETFROM:+0200
TZOFFSETTO:+0100
TZNAME:CET
DTSTART:20221030T010000
END:STANDARD
BEGIN:DAYLIGHT
TZOFFSETFROM:+0100
TZOFFSETTO:+0200
TZNAME:CEST
DTSTART:20230326T010000
END:DAYLIGHT
BEGIN:STANDARD
TZOFFSETFROM:+0200
TZOFFSETTO:+0100
TZNAME:CET
DTSTART:20231029T010000
END:STANDARD
END:VTIMEZONE
BEGIN:VEVENT
DTSTART;VALUE=DATE:20220705
DTEND;VALUE=DATE:20220706
DTSTAMP:20260424T124135
CREATED:20220614T074005Z
LAST-MODIFIED:20220614T074005Z
UID:6040-1656979200-1657065599@www.gaeb.de
SUMMARY:Leistungsbereich 006 Spezialtiefbauarbeiten
DESCRIPTION:Sollten Sie sich für eine Mitarbeit in diesem Arbeitskreis interessieren oder möchten Sie als Gast an der Sitzung teilnehmen\, wenden Sie sich bitte an die GAEB Geschäftsstelle unter gaeb@bbr.bund.de
URL:https://www.gaeb.de/de/termin/leistungsbereich-006-spezialtiefbauarbeiten/
LOCATION:DIN Berlin
END:VEVENT
BEGIN:VEVENT
DTSTART;VALUE=DATE:20220705
DTEND;VALUE=DATE:20220706
DTSTAMP:20260424T124135
CREATED:20220614T074229Z
LAST-MODIFIED:20220614T074229Z
UID:6042-1656979200-1657065599@www.gaeb.de
SUMMARY:LB 099 Allgemeine Standardbeschreibungen (Vorbemerkungen)
DESCRIPTION:Sollten Sie sich für eine Mitarbeit in diesem Arbeitskreis interessieren oder möchten Sie als Gast an der Sitzung teilnehmen\, wenden Sie sich bitte an die GAEB Geschäftsstelle unter gaeb@bbr.bund.de
URL:https://www.gaeb.de/de/termin/lb-099-allgemeine-standardbeschreibungen-vorbemerkungen-3/
LOCATION:Webex\, Webex
END:VEVENT
BEGIN:VEVENT
DTSTART;VALUE=DATE:20220705
DTEND;VALUE=DATE:20220706
DTSTAMP:20260424T124135
CREATED:20220628T091014Z
LAST-MODIFIED:20220628T091014Z
UID:6085-1656979200-1657065599@www.gaeb.de
SUMMARY:LB 032 Verglasungsarbeiten
DESCRIPTION:Sollten Sie sich für eine Mitarbeit in diesem Arbeitskreis interessieren oder möchten Sie als Gast an der Sitzung teilnehmen\, wenden Sie sich bitte an die GAEB Geschäftsstelle unter gaeb@bbr.bund.de
URL:https://www.gaeb.de/de/termin/lb-032-verglasungsarbeiten-5/
LOCATION:Webex\, Webex
END:VEVENT
BEGIN:VEVENT
DTSTART;VALUE=DATE:20220706
DTEND;VALUE=DATE:20220707
DTSTAMP:20260424T124135
CREATED:20220614T074453Z
LAST-MODIFIED:20220614T074453Z
UID:6044-1657065600-1657151999@www.gaeb.de
SUMMARY:Leistungsbereich 034 Maler- und Lackierarbeiten
DESCRIPTION:Sollten Sie sich für eine Mitarbeit in diesem Arbeitskreis interessieren oder möchten Sie als Gast an der Sitzung teilnehmen\, wenden Sie sich bitte an die GAEB Geschäftsstelle unter gaeb@bbr.bund.de
URL:https://www.gaeb.de/de/termin/leistungsbereich-034-maler-und-lackierarbeiten-2/
LOCATION:Webex\, Webex
END:VEVENT
BEGIN:VEVENT
DTSTART;VALUE=DATE:20220706
DTEND;VALUE=DATE:20220707
DTSTAMP:20260424T124135
CREATED:20220614T074648Z
LAST-MODIFIED:20220614T074648Z
UID:6046-1657065600-1657151999@www.gaeb.de
SUMMARY:LB 035 Korrosionsschutz an Stahlbauten
DESCRIPTION:Sollten Sie sich für eine Mitarbeit in diesem Arbeitskreis interessieren oder möchten Sie als Gast an der Sitzung teilnehmen\, wenden Sie sich bitte an die GAEB Geschäftsstelle unter gaeb@bbr.bund.de
URL:https://www.gaeb.de/de/termin/lb-035-korrosionsschutz-an-stahlbauten-2/
LOCATION:Webex\, Webex
END:VEVENT
BEGIN:VEVENT
DTSTART;VALUE=DATE:20220707
DTEND;VALUE=DATE:20220708
DTSTAMP:20260424T124135
CREATED:20220404T084345Z
LAST-MODIFIED:20220513T140055Z
UID:5996-1657152000-1657238399@www.gaeb.de
SUMMARY:LB 096 Bauarbeiten an Bahnübergängen und LB 097 Bauarbeiten an Gleisen und Weichen
DESCRIPTION:Sollten Sie sich für eine Mitarbeit in diesem Arbeitskreis interessieren oder möchten Sie als Gast an der Sitzung teilnehmen\, wenden Sie sich bitte an die GAEB Geschäftsstelle unter gaeb@bbr.bund.de
URL:https://www.gaeb.de/de/termin/lb-096-bauarbeiten-an-bahnuebergaengen-und-lb-097-bauarbeiten-an-gleisen-und-weichen-3/
LOCATION:DIN Berlin
END:VEVENT
BEGIN:VEVENT
DTSTART;VALUE=DATE:20220711
DTEND;VALUE=DATE:20220712
DTSTAMP:20260424T124135
CREATED:20220608T100355Z
LAST-MODIFIED:20220608T100355Z
UID:6038-1657497600-1657583999@www.gaeb.de
SUMMARY:LB 060 Such-\, Signal-\, Zeitdienst-\, Antennen-\, elekroakustische Anlagen\, Medientech- nik
DESCRIPTION:Sollten Sie sich für eine Mitarbeit in diesem Arbeitskreis interessieren oder möchten Sie als Gast an der Sitzung teilnehmen\, wenden Sie sich bitte an die GAEB Geschäftsstelle unter gaeb@bbr.bund.de
URL:https://www.gaeb.de/de/termin/lb-060-such-signal-zeitdienst-antennen-elekroakustische-anlagen-medientech-nik/
LOCATION:Bamberg
END:VEVENT
BEGIN:VEVENT
DTSTART;VALUE=DATE:20220712
DTEND;VALUE=DATE:20220713
DTSTAMP:20260424T124135
CREATED:20220614T103630Z
LAST-MODIFIED:20220614T103630Z
UID:6050-1657584000-1657670399@www.gaeb.de
SUMMARY:LB 009 Abwasserkanalarbeiten TB 310 – Teilbereich Sanierung und Renovierung
DESCRIPTION:Sollten Sie sich für eine Mitarbeit in diesem Arbeitskreis interessieren oder möchten Sie als Gast an der Sitzung teilnehmen\, wenden Sie sich bitte an die GAEB Geschäftsstelle unter gaeb@bbr.bund.de
URL:https://www.gaeb.de/de/termin/lb-009-abwasserkanalarbeiten-tb-310-teilbereich-sanierung-und-renovierung-3/
LOCATION:DIN Berlin
END:VEVENT
BEGIN:VEVENT
DTSTART;VALUE=DATE:20220713
DTEND;VALUE=DATE:20220715
DTSTAMP:20260424T124135
CREATED:20220621T075624Z
LAST-MODIFIED:20220621T075624Z
UID:6055-1657670400-1657843199@www.gaeb.de
SUMMARY:LB 045 Gas-\, Wasser- und Entwässerungsanlagen - Ausstattung\, Elemente\, Fertigbäder
DESCRIPTION:Sollten Sie sich für eine Mitarbeit in diesem Arbeitskreis interessieren oder möchten Sie als Gast an der Sitzung teilnehmen\, wenden Sie sich bitte an die GAEB Geschäftsstelle unter gaeb@bbr.bund.de
URL:https://www.gaeb.de/de/termin/lb-045-gas-wasser-und-entwaesserungsanlagen-ausstattung-elemente-fertigbaeder-9/
LOCATION:Schiltach\, Auestraße 5-9\, 77961
END:VEVENT
BEGIN:VEVENT
DTSTART;VALUE=DATE:20220715
DTEND;VALUE=DATE:20220716
DTSTAMP:20260424T124135
CREATED:20220614T104013Z
LAST-MODIFIED:20220614T104013Z
UID:6052-1657843200-1657929599@www.gaeb.de
SUMMARY:LB 081 Betonerhaltungsarbeiten
DESCRIPTION:Sollten Sie sich für eine Mitarbeit in diesem Arbeitskreis interessieren oder möchten Sie als Gast an der Sitzung teilnehmen\, wenden Sie sich bitte an die GAEB Geschäftsstelle unter gaeb@bbr.bund.de
URL:https://www.gaeb.de/de/termin/lb-081-betonerhaltungsarbeiten-9/
LOCATION:Webex\, Webex
END:VEVENT
BEGIN:VEVENT
DTSTART;VALUE=DATE:20220718
DTEND;VALUE=DATE:20220720
DTSTAMP:20260424T124135
CREATED:20220621T075815Z
LAST-MODIFIED:20220621T075815Z
UID:6058-1658102400-1658275199@www.gaeb.de
SUMMARY:LB 024 Fliesen- und Plattenarbeiten
DESCRIPTION:Sollten Sie sich für eine Mitarbeit in diesem Arbeitskreis interessieren oder möchten Sie als Gast an der Sitzung teilnehmen\, wenden Sie sich bitte an die GAEB Geschäftsstelle unter gaeb@bbr.bund.de
URL:https://www.gaeb.de/de/termin/lb-024-fliesen-und-plattenarbeiten-5/
LOCATION:Würzburg
END:VEVENT
BEGIN:VEVENT
DTSTART;VALUE=DATE:20220726
DTEND;VALUE=DATE:20220727
DTSTAMP:20260424T124135
CREATED:20220621T080031Z
LAST-MODIFIED:20220621T080031Z
UID:6060-1658793600-1658879999@www.gaeb.de
SUMMARY:LB 051 Kabelleitungstiefbauarbeiten
DESCRIPTION:Sollten Sie sich für eine Mitarbeit in diesem Arbeitskreis interessieren oder möchten Sie als Gast an der Sitzung teilnehmen\, wenden Sie sich bitte an die GAEB Geschäftsstelle unter gaeb@bbr.bund.de
URL:https://www.gaeb.de/de/termin/lb-051-kabelleitungstiefbauarbeiten-6/
LOCATION:DIN Berlin
END:VEVENT
BEGIN:VEVENT
DTSTART;VALUE=DATE:20220727
DTEND;VALUE=DATE:20220729
DTSTAMP:20260424T124135
CREATED:20220621T080308Z
LAST-MODIFIED:20220621T080308Z
UID:6062-1658880000-1659052799@www.gaeb.de
SUMMARY:Leistungsbereiche 003\, 004 und 010
DESCRIPTION:Sollten Sie sich für eine Mitarbeit in diesem Arbeitskreis interessieren oder möchten Sie als Gast an der Sitzung teilnehmen\, wenden Sie sich bitte an die GAEB Geschäftsstelle unter gaeb@bbr.bund.de
URL:https://www.gaeb.de/de/termin/leistungsbereiche-003-004-und-010-2/
LOCATION:DIN Berlin
END:VEVENT
BEGIN:VEVENT
DTSTART;VALUE=DATE:20220728
DTEND;VALUE=DATE:20220729
DTSTAMP:20260424T124135
CREATED:20220621T080633Z
LAST-MODIFIED:20220621T080633Z
UID:6064-1658966400-1659052799@www.gaeb.de
SUMMARY:Leistungsbereiche 084 und 087
DESCRIPTION:Sollten Sie sich für eine Mitarbeit in diesem Arbeitskreis interessieren oder möchten Sie als Gast an der Sitzung teilnehmen\, wenden Sie sich bitte an die GAEB Geschäftsstelle unter gaeb@bbr.bund.de
URL:https://www.gaeb.de/de/termin/leistungsbereiche-084-und-087/
LOCATION:Köln
END:VEVENT
END:VCALENDAR