BEGIN:VCALENDAR
VERSION:2.0
PRODID:-//GAEB - Gemeinsamer Ausschuss Elektronik im Bauwesen - ECPv6.15.20//NONSGML v1.0//EN
CALSCALE:GREGORIAN
METHOD:PUBLISH
X-ORIGINAL-URL:https://www.gaeb.de
X-WR-CALDESC:Veranstaltungen für GAEB - Gemeinsamer Ausschuss Elektronik im Bauwesen
REFRESH-INTERVAL;VALUE=DURATION:PT1H
X-Robots-Tag:noindex
X-PUBLISHED-TTL:PT1H
BEGIN:VTIMEZONE
TZID:Europe/Berlin
BEGIN:DAYLIGHT
TZOFFSETFROM:+0100
TZOFFSETTO:+0200
TZNAME:CEST
DTSTART:20210328T010000
END:DAYLIGHT
BEGIN:STANDARD
TZOFFSETFROM:+0200
TZOFFSETTO:+0100
TZNAME:CET
DTSTART:20211031T010000
END:STANDARD
BEGIN:DAYLIGHT
TZOFFSETFROM:+0100
TZOFFSETTO:+0200
TZNAME:CEST
DTSTART:20220327T010000
END:DAYLIGHT
BEGIN:STANDARD
TZOFFSETFROM:+0200
TZOFFSETTO:+0100
TZNAME:CET
DTSTART:20221030T010000
END:STANDARD
BEGIN:DAYLIGHT
TZOFFSETFROM:+0100
TZOFFSETTO:+0200
TZNAME:CEST
DTSTART:20230326T010000
END:DAYLIGHT
BEGIN:STANDARD
TZOFFSETFROM:+0200
TZOFFSETTO:+0100
TZNAME:CET
DTSTART:20231029T010000
END:STANDARD
END:VTIMEZONE
BEGIN:VEVENT
DTSTART;VALUE=DATE:20220502
DTEND;VALUE=DATE:20220503
DTSTAMP:20260424T091321
CREATED:20220405T060723Z
LAST-MODIFIED:20220405T060723Z
UID:6003-1651449600-1651535999@www.gaeb.de
SUMMARY:LB 044 Abwasseranlagen - Leitungen\, Abläufe\, Armaturen
DESCRIPTION:Sollten Sie sich für eine Mitarbeit in diesem Arbeitskreis interessieren oder möchten Sie als Gast an der Sitzung teilnehmen\, wenden Sie sich bitte an die GAEB Geschäftsstelle unter gaeb@bbr.bund.de
URL:https://www.gaeb.de/de/termin/lb-044-abwasseranlagen-leitungen-ablaeufe-armaturen-4/
LOCATION:Pfullendorf\, Pfullendorf
END:VEVENT
BEGIN:VEVENT
DTSTART;VALUE=DATE:20220510
DTEND;VALUE=DATE:20220511
DTSTAMP:20260424T091321
CREATED:20220328T125604Z
LAST-MODIFIED:20220328T125604Z
UID:5986-1652140800-1652227199@www.gaeb.de
SUMMARY:LB 000 Sicherheitseinrichtungen\, Baustelleneinrichtungen/ LB 090 Baulogistik
DESCRIPTION:Sollten Sie sich für eine Mitarbeit in diesem Arbeitskreis interessieren oder möchten Sie als Gast an der Sitzung teilnehmen\, wenden Sie sich bitte an die GAEB Geschäftsstelle unter gaeb@bbr.bund.de
URL:https://www.gaeb.de/de/termin/lb-000-sicherheitseinrichtungen-baustelleneinrichtungen-lb-090-baulogistik-2/
LOCATION:Erkrath\, Erkrath
END:VEVENT
BEGIN:VEVENT
DTSTART;VALUE=DATE:20220510
DTEND;VALUE=DATE:20220512
DTSTAMP:20260424T091321
CREATED:20220404T084246Z
LAST-MODIFIED:20220404T084259Z
UID:5993-1652140800-1652313599@www.gaeb.de
SUMMARY:LB 075 Raumlufttechnische Anlagen und LB 078 Kälteanlagen für raumlufttechnische Anlagen
DESCRIPTION:Sollten Sie sich für eine Mitarbeit in diesem Arbeitskreis interessieren oder möchten Sie als Gast an der Sitzung teilnehmen\, wenden Sie sich bitte an die GAEB Geschäftsstelle unter gaeb@bbr.bund.de
URL:https://www.gaeb.de/de/termin/lb-075-raumlufttechnische-anlagenundlb-078-kaelteanlagen-fuer-raumlufttechnische-anlagen/
LOCATION:Regensburg\, Regensburg
END:VEVENT
BEGIN:VEVENT
DTSTART;VALUE=DATE:20220510
DTEND;VALUE=DATE:20220512
DTSTAMP:20260424T091321
CREATED:20220405T060907Z
LAST-MODIFIED:20220405T060907Z
UID:6005-1652140800-1652313599@www.gaeb.de
SUMMARY:LB 022 Klempnerarbeiten
DESCRIPTION:Sollten Sie sich für eine Mitarbeit in diesem Arbeitskreis interessieren oder möchten Sie als Gast an der Sitzung teilnehmen\, wenden Sie sich bitte an die GAEB Geschäftsstelle unter gaeb@bbr.bund.de
URL:https://www.gaeb.de/de/termin/lb-022-klempnerarbeiten-5/
LOCATION:Sankt Augustin\, Nordrhein-Westfalen\, 53757\, Germany
END:VEVENT
BEGIN:VEVENT
DTSTART;VALUE=DATE:20220518
DTEND;VALUE=DATE:20220520
DTSTAMP:20260424T091321
CREATED:20220420T111342Z
LAST-MODIFIED:20220420T111342Z
UID:6025-1652832000-1653004799@www.gaeb.de
SUMMARY:LB 039 Trockenbauarbeiten
DESCRIPTION:Sollten Sie sich für eine Mitarbeit in diesem Arbeitskreis interessieren oder möchten Sie als Gast an der Sitzung teilnehmen\, wenden Sie sich bitte an die GAEB Geschäftsstelle unter gaeb@bbr.bund.de
URL:https://www.gaeb.de/de/termin/lb-039-trockenbauarbeiten-6/
LOCATION:Würzburg
END:VEVENT
BEGIN:VEVENT
DTSTART;VALUE=DATE:20220530
DTEND;VALUE=DATE:20220531
DTSTAMP:20260424T091321
CREATED:20220329T072256Z
LAST-MODIFIED:20220329T072256Z
UID:5988-1653868800-1653955199@www.gaeb.de
SUMMARY:LB 084 Abbruch-\, Rückbau-  und Schadstoffsanierungsarbei-te nundLB 087 Abfallentsorgung\, Verwertung und Beseitigung
DESCRIPTION:Sollten Sie sich für eine Mitarbeit in diesem Arbeitskreis interessieren oder möchten Sie als Gast an der Sitzung teilnehmen\, wenden Sie sich bitte an die GAEB Geschäftsstelle unter gaeb@bbr.bund.de
URL:https://www.gaeb.de/de/termin/lb-084-abbruch-rueckbau-und-schadstoffsanierungsarbei-te-nundlb-087-abfallentsorgung-verwertung-und-beseitigung/
LOCATION:München\, München
END:VEVENT
BEGIN:VEVENT
DTSTART;VALUE=DATE:20220531
DTEND;VALUE=DATE:20220602
DTSTAMP:20260424T091321
CREATED:20220329T072456Z
LAST-MODIFIED:20220329T072456Z
UID:5990-1653955200-1654127999@www.gaeb.de
SUMMARY:LB 023 Putz-  und Stuckarbeiten
DESCRIPTION:Sollten Sie sich für eine Mitarbeit in diesem Arbeitskreis interessieren oder möchten Sie als Gast an der Sitzung teilnehmen\, wenden Sie sich bitte an die GAEB Geschäftsstelle unter gaeb@bbr.bund.de
URL:https://www.gaeb.de/de/termin/lb-023-putz-und-stuckarbeiten-3/
LOCATION:Bad Hindelang\, Reckenberg 12\, Bad Hindelang\, 87541\, Germany
END:VEVENT
BEGIN:VEVENT
DTSTART;VALUE=DATE:20220531
DTEND;VALUE=DATE:20220602
DTSTAMP:20260424T091321
CREATED:20220404T084444Z
LAST-MODIFIED:20220420T062839Z
UID:5998-1653955200-1654127999@www.gaeb.de
SUMMARY:LB 031 Metallbauarbeiten
DESCRIPTION:Sollten Sie sich für eine Mitarbeit in diesem Arbeitskreis interessieren oder möchten Sie als Gast an der Sitzung teilnehmen\, wenden Sie sich bitte an die GAEB Geschäftsstelle unter gaeb@bbr.bund.de
URL:https://www.gaeb.de/de/termin/lb-031-metallbauarbeiten-6/
LOCATION:DIN Berlin
END:VEVENT
BEGIN:VEVENT
DTSTART;VALUE=DATE:20220531
DTEND;VALUE=DATE:20220601
DTSTAMP:20260424T091321
CREATED:20220420T054358Z
LAST-MODIFIED:20220420T054358Z
UID:6009-1653955200-1654041599@www.gaeb.de
SUMMARY:LB 075 UAK Wohnraumlüftung
DESCRIPTION:Sollten Sie sich für eine Mitarbeit in diesem Arbeitskreis interessieren oder möchten Sie als Gast an der Sitzung teilnehmen\, wenden Sie sich bitte an die GAEB Geschäftsstelle unter gaeb@bbr.bund.de \nAufgrund der aktuellen Situation findet dieser Termin zurzeit lediglich als Webmeeting statt.
URL:https://www.gaeb.de/de/termin/lb-075-uak-wohnraumlueftung-4/
LOCATION:Webex\, Webex
END:VEVENT
END:VCALENDAR