BEGIN:VCALENDAR
VERSION:2.0
PRODID:-//GAEB - Gemeinsamer Ausschuss Elektronik im Bauwesen - ECPv6.15.20//NONSGML v1.0//EN
CALSCALE:GREGORIAN
METHOD:PUBLISH
X-WR-CALNAME:GAEB - Gemeinsamer Ausschuss Elektronik im Bauwesen
X-ORIGINAL-URL:https://www.gaeb.de
X-WR-CALDESC:Veranstaltungen für GAEB - Gemeinsamer Ausschuss Elektronik im Bauwesen
REFRESH-INTERVAL;VALUE=DURATION:PT1H
X-Robots-Tag:noindex
X-PUBLISHED-TTL:PT1H
BEGIN:VTIMEZONE
TZID:Europe/Berlin
BEGIN:DAYLIGHT
TZOFFSETFROM:+0100
TZOFFSETTO:+0200
TZNAME:CEST
DTSTART:20210328T010000
END:DAYLIGHT
BEGIN:STANDARD
TZOFFSETFROM:+0200
TZOFFSETTO:+0100
TZNAME:CET
DTSTART:20211031T010000
END:STANDARD
BEGIN:DAYLIGHT
TZOFFSETFROM:+0100
TZOFFSETTO:+0200
TZNAME:CEST
DTSTART:20220327T010000
END:DAYLIGHT
BEGIN:STANDARD
TZOFFSETFROM:+0200
TZOFFSETTO:+0100
TZNAME:CET
DTSTART:20221030T010000
END:STANDARD
BEGIN:DAYLIGHT
TZOFFSETFROM:+0100
TZOFFSETTO:+0200
TZNAME:CEST
DTSTART:20230326T010000
END:DAYLIGHT
BEGIN:STANDARD
TZOFFSETFROM:+0200
TZOFFSETTO:+0100
TZNAME:CET
DTSTART:20231029T010000
END:STANDARD
END:VTIMEZONE
BEGIN:VEVENT
DTSTART;VALUE=DATE:20220111
DTEND;VALUE=DATE:20220114
DTSTAMP:20260424T090351
CREATED:20211215T061655Z
LAST-MODIFIED:20211215T061655Z
UID:5814-1641859200-1642118399@www.gaeb.de
SUMMARY:Leistungsbereich 063 Gefahrenmeldeanlagen
DESCRIPTION:Sollten Sie sich für eine Mitarbeit in diesem Arbeitskreis interessieren oder möchten Sie als Gast an der Sitzung teilnehmen\, wenden Sie sich bitte an die GAEB Geschäftsstelle unter gaeb@bbr.bund.de \nAufgrund der aktuellen Situation findet dieser Termin zurzeit lediglich als Webmeeting statt.
URL:https://www.gaeb.de/de/termin/leistungsbereich-063-gefahrenmeldeanlagen-2/
LOCATION:Webex\, Webex
END:VEVENT
BEGIN:VEVENT
DTSTART;VALUE=DATE:20220112
DTEND;VALUE=DATE:20220113
DTSTAMP:20260424T090351
CREATED:20211126T081900Z
LAST-MODIFIED:20211126T081900Z
UID:5758-1641945600-1642031999@www.gaeb.de
SUMMARY:LB 013T Betonarbeiten\, Teilbereich Konstruktiver Betonfertigteilbau
DESCRIPTION:Sollten Sie sich für eine Mitarbeit in diesem Arbeitskreis interessieren oder möchten Sie als Gast an der Sitzung teilnehmen\, wenden Sie sich bitte an die GAEB Geschäftsstelle unter gaeb@bbr.bund.de \nAufgrund der aktuellen Situation findet dieser Termin zurzeit lediglich als Webmeeting statt.
URL:https://www.gaeb.de/de/termin/lb-013t-betonarbeiten-teilbereich-konstruktiver-betonfertigteilbau-4/
LOCATION:Webex\, Webex
END:VEVENT
BEGIN:VEVENT
DTSTART;VALUE=DATE:20220112
DTEND;VALUE=DATE:20220113
DTSTAMP:20260424T090351
CREATED:20211215T061831Z
LAST-MODIFIED:20211215T061831Z
UID:5816-1641945600-1642031999@www.gaeb.de
SUMMARY:LB 096 Bauarbeiten an Bahnübergängen und LB 097 Bauarbeiten an Gleisen und Weichen
DESCRIPTION:Sollten Sie sich für eine Mitarbeit in diesem Arbeitskreis interessieren oder möchten Sie als Gast an der Sitzung teilnehmen\, wenden Sie sich bitte an die GAEB Geschäftsstelle unter gaeb@bbr.bund.de \nAufgrund der aktuellen Situation findet dieser Termin zurzeit lediglich als Webmeeting statt.
URL:https://www.gaeb.de/de/termin/lb-096-bauarbeiten-an-bahnuebergaengen-und-lb-097-bauarbeiten-an-gleisen-und-weichen-2/
LOCATION:Webex\, Webex
END:VEVENT
BEGIN:VEVENT
DTSTART;VALUE=DATE:20220113
DTEND;VALUE=DATE:20220115
DTSTAMP:20260424T090351
CREATED:20211130T103920Z
LAST-MODIFIED:20211130T103920Z
UID:5803-1642032000-1642204799@www.gaeb.de
SUMMARY:Leistungsbereiche 053 und 054
DESCRIPTION:Sollten Sie sich für eine Mitarbeit in diesem Arbeitskreis interessieren oder möchten Sie als Gast an der Sitzung teilnehmen\, wenden Sie sich bitte an die GAEB Geschäftsstelle unter gaeb@bbr.bund.de \nAufgrund der aktuellen Situation findet dieser Termin zurzeit lediglich als Webmeeting statt.
URL:https://www.gaeb.de/de/termin/leistungsbereiche-053-und-054/
LOCATION:Webex\, Webex
END:VEVENT
BEGIN:VEVENT
DTSTART;VALUE=DATE:20220114
DTEND;VALUE=DATE:20220115
DTSTAMP:20260424T090351
CREATED:20211126T081557Z
LAST-MODIFIED:20211126T081557Z
UID:5752-1642118400-1642204799@www.gaeb.de
SUMMARY:LB 024 Fliesen- und Plattenarbeiten
DESCRIPTION:Sollten Sie sich für eine Mitarbeit in diesem Arbeitskreis interessieren oder möchten Sie als Gast an der Sitzung teilnehmen\, wenden Sie sich bitte an die GAEB Geschäftsstelle unter gaeb@bbr.bund.de \nAufgrund der aktuellen Situation findet dieser Termin zurzeit lediglich als Webmeeting statt.
URL:https://www.gaeb.de/de/termin/lb-024-fliesen-und-plattenarbeiten-3/
LOCATION:Webex\, Webex
END:VEVENT
BEGIN:VEVENT
DTSTART;VALUE=DATE:20220118
DTEND;VALUE=DATE:20220119
DTSTAMP:20260424T090351
CREATED:20211126T082017Z
LAST-MODIFIED:20211126T082017Z
UID:5760-1642464000-1642550399@www.gaeb.de
SUMMARY:LB 013 Betonarbeiten
DESCRIPTION:Sollten Sie sich für eine Mitarbeit in diesem Arbeitskreis interessieren oder möchten Sie als Gast an der Sitzung teilnehmen\, wenden Sie sich bitte an die GAEB Geschäftsstelle unter gaeb@bbr.bund.de \nAufgrund der aktuellen Situation findet dieser Termin zurzeit lediglich als Webmeeting statt.
URL:https://www.gaeb.de/de/termin/lb-013-betonarbeiten-5/
LOCATION:Webex\, Webex
END:VEVENT
BEGIN:VEVENT
DTSTART;VALUE=DATE:20220118
DTEND;VALUE=DATE:20220119
DTSTAMP:20260424T090351
CREATED:20211215T062124Z
LAST-MODIFIED:20211215T062124Z
UID:5820-1642464000-1642550399@www.gaeb.de
SUMMARY:LB 009 Abwasserkanalarbeiten TB 310 – Teilbereich Sanierung und Renovierung
DESCRIPTION:Sollten Sie sich für eine Mitarbeit in diesem Arbeitskreis interessieren oder möchten Sie als Gast an der Sitzung teilnehmen\, wenden Sie sich bitte an die GAEB Geschäftsstelle unter gaeb@bbr.bund.de \nAufgrund der aktuellen Situation findet dieser Termin zurzeit lediglich als Webmeeting statt.
URL:https://www.gaeb.de/de/termin/lb-009-abwasserkanalarbeiten-tb-310-teilbereich-sanierung-und-renovierung/
END:VEVENT
BEGIN:VEVENT
DTSTART;VALUE=DATE:20220125
DTEND;VALUE=DATE:20220126
DTSTAMP:20260424T090351
CREATED:20211126T082112Z
LAST-MODIFIED:20211126T082112Z
UID:5762-1643068800-1643155199@www.gaeb.de
SUMMARY:LB 084 Abbruch-\, Rückbau- und Schadstoffsanierungsarbeiten und LB 087 Abfallentsorgung\, Verwertung und Beseitigung
DESCRIPTION:Sollten Sie sich für eine Mitarbeit in diesem Arbeitskreis interessieren oder möchten Sie als Gast an der Sitzung teilnehmen\, wenden Sie sich bitte an die GAEB Geschäftsstelle unter gaeb@bbr.bund.de \nAufgrund der aktuellen Situation findet dieser Termin zurzeit lediglich als Webmeeting statt.
URL:https://www.gaeb.de/de/termin/lb-084-abbruch-rueckbau-und-schadstoffsanierungsarbeiten-und-lb-087-abfallentsorgung-verwertung-und-beseitigung-2/
LOCATION:Webex\, Webex
END:VEVENT
BEGIN:VEVENT
DTSTART;VALUE=DATE:20220125
DTEND;VALUE=DATE:20220128
DTSTAMP:20260424T090351
CREATED:20211130T103612Z
LAST-MODIFIED:20211130T103612Z
UID:5799-1643068800-1643327999@www.gaeb.de
SUMMARY:Leistungsbereiche 003\, 004 und 010
DESCRIPTION:Sollten Sie sich für eine Mitarbeit in diesem Arbeitskreis interessieren oder möchten Sie als Gast an der Sitzung teilnehmen\, wenden Sie sich bitte an die GAEB Geschäftsstelle unter gaeb@bbr.bund.de \nAufgrund der aktuellen Situation findet dieser Termin zurzeit lediglich als Webmeeting statt.
URL:https://www.gaeb.de/de/termin/leistungsbereiche-003-004-und-010/
LOCATION:Webex\, Webex
END:VEVENT
BEGIN:VEVENT
DTSTART;VALUE=DATE:20220125
DTEND;VALUE=DATE:20220126
DTSTAMP:20260424T090351
CREATED:20211130T103756Z
LAST-MODIFIED:20211130T104037Z
UID:5801-1643068800-1643155199@www.gaeb.de
SUMMARY:Leistungsbereich 075 UAK Wohnraumlüftung
DESCRIPTION:Sollten Sie sich für eine Mitarbeit in diesem Arbeitskreis interessieren oder möchten Sie als Gast an der Sitzung teilnehmen\, wenden Sie sich bitte an die GAEB Geschäftsstelle unter gaeb@bbr.bund.de \nAufgrund der aktuellen Situation findet dieser Termin zurzeit lediglich als Webmeeting statt.
URL:https://www.gaeb.de/de/termin/leistungsbereich-075-uak-wohnraumlueftung/
LOCATION:Webex\, Webex
END:VEVENT
BEGIN:VEVENT
DTSTART;VALUE=DATE:20220128
DTEND;VALUE=DATE:20220129
DTSTAMP:20260424T090351
CREATED:20211126T081802Z
LAST-MODIFIED:20211126T081802Z
UID:5756-1643328000-1643414399@www.gaeb.de
SUMMARY:LB 081 Betonerhaltungsarbeiten
DESCRIPTION:Sollten Sie sich für eine Mitarbeit in diesem Arbeitskreis interessieren oder möchten Sie als Gast an der Sitzung teilnehmen\, wenden Sie sich bitte an die GAEB Geschäftsstelle unter gaeb@bbr.bund.de \nAufgrund der aktuellen Situation findet dieser Termin zurzeit lediglich als Webmeeting statt.
URL:https://www.gaeb.de/de/termin/lb-081-betonerhaltungsarbeiten-7/
LOCATION:Webex\, Webex
END:VEVENT
END:VCALENDAR